BEGIN:VCALENDAR
VERSION:2.0
PRODID:-//Tukios.com/
BEGIN:VEVENT
UID:550b0e7d-4e4a-441b-92cf-9e441e128473@www.chambersfuneral.com
DTSTAMP:20260423T200814Z
DTSTART:20260427T210000Z
DTEND:20260427T230000Z
SUMMARY:Visitation
DESCRIPTION:
URL:https://www.chambersfuneral.com/obituaries/jeannette-presley
LOCATION: 29150 Lorain Rd  North Olmsted OH 44070
GEO:41.4073654;-81.944415
END:VEVENT
END:VCALENDAR