BEGIN:VCALENDAR
VERSION:2.0
PRODID:-//Tukios.com/
BEGIN:VEVENT
UID:6215af3e-d27b-4886-a68b-cff8e29abec0@www.chambersfuneral.com
DTSTAMP:20260423T200906Z
DTSTART:20260428T140000Z
DTEND:20260428T150000Z
SUMMARY:Mass
DESCRIPTION:
URL:https://www.chambersfuneral.com/obituaries/jeannette-presley
LOCATION: 1930 W 54th St  Cleveland OH 44102
GEO:41.4789205;-81.7240825
END:VEVENT
END:VCALENDAR